Package: dandelionR Version: 1.2.0 Command: /home/biocbuild/R/R/bin/R CMD INSTALL dandelionR StartedAt: 2025-11-13 22:08:39 -0000 (Thu, 13 Nov 2025) EndedAt: 2025-11-13 22:09:29 -0000 (Thu, 13 Nov 2025) EllapsedTime: 50.8 seconds RetCode: 0 Status: OK