Package: dandelionR Version: 1.2.0 Command: /home/biocbuild/R/R/bin/R CMD build --keep-empty-dirs --no-resave-data dandelionR StartedAt: 2025-11-14 01:03:52 -0000 (Fri, 14 Nov 2025) EndedAt: 2025-11-14 01:07:39 -0000 (Fri, 14 Nov 2025) EllapsedTime: 227.1 seconds RetCode: 0 Status: OK PackageFile: dandelionR_1.2.0.tar.gz PackageFileSize: 7.299 MiB