Package: dandelionR Version: 1.0.2 Command: /home/biocbuild/bbs-3.21-bioc/R/bin/R CMD INSTALL dandelionR StartedAt: 2025-10-15 15:55:57 -0400 (Wed, 15 Oct 2025) EndedAt: 2025-10-15 15:56:36 -0400 (Wed, 15 Oct 2025) EllapsedTime: 39.3 seconds RetCode: 0 Status: OK