Package: dandelionR Version: 1.0.2 Command: /home/biocbuild/bbs-3.21-bioc/R/bin/R CMD build --keep-empty-dirs --no-resave-data dandelionR StartedAt: 2025-10-15 17:03:54 -0400 (Wed, 15 Oct 2025) EndedAt: 2025-10-15 17:06:01 -0400 (Wed, 15 Oct 2025) EllapsedTime: 127.1 seconds RetCode: 0 Status: OK PackageFile: dandelionR_1.0.2.tar.gz PackageFileSize: 8.803 MiB