Package: dandelionR Version: 1.0.0 Command: rm -rf dandelionR.buildbin-libdir && mkdir dandelionR.buildbin-libdir && /Users/biocbuild/BBS/utils/build-universal.sh dandelionR_1.0.0.tar.gz /Library/Frameworks/R.framework/Resources/bin/R dandelionR.buildbin-libdir StartedAt: 2025-04-22 00:41:20 -0400 (Tue, 22 Apr 2025) EndedAt: 2025-04-22 00:42:14 -0400 (Tue, 22 Apr 2025) EllapsedTime: 54.1 seconds RetCode: 0 Status: OK PackageFile: dandelionR_1.0.0.tgz PackageFileSize: 9.609 MiB