Package: dandelionR Version: 1.0.2 Command: /Library/Frameworks/R.framework/Resources/bin/R CMD INSTALL dandelionR StartedAt: 2025-10-13 18:15:05 -0400 (Mon, 13 Oct 2025) EndedAt: 2025-10-13 18:15:49 -0400 (Mon, 13 Oct 2025) EllapsedTime: 44.3 seconds RetCode: 0 Status: OK