Package: dandelionR Version: 1.0.2 Command: rm -rf dandelionR.buildbin-libdir && mkdir dandelionR.buildbin-libdir && /Users/biocbuild/BBS/utils/build-universal.sh dandelionR_1.0.2.tar.gz /Library/Frameworks/R.framework/Resources/bin/R dandelionR.buildbin-libdir StartedAt: 2025-10-15 18:08:17 -0400 (Wed, 15 Oct 2025) EndedAt: 2025-10-15 18:09:08 -0400 (Wed, 15 Oct 2025) EllapsedTime: 50.8 seconds RetCode: 0 Status: OK PackageFile: dandelionR_1.0.2.tgz PackageFileSize: 9.529 MiB