Package: dagLogo Version: 1.48.0 Command: /home/biocbuild/bbs-3.22-bioc/R/bin/R CMD INSTALL dagLogo StartedAt: 2025-11-11 15:57:45 -0500 (Tue, 11 Nov 2025) EndedAt: 2025-11-11 15:58:34 -0500 (Tue, 11 Nov 2025) EllapsedTime: 48.9 seconds RetCode: 0 Status: OK