Package: dagLogo Version: 1.48.0 Command: /Library/Frameworks/R.framework/Resources/bin/R CMD INSTALL dagLogo StartedAt: 2025-11-10 15:27:55 -0500 (Mon, 10 Nov 2025) EndedAt: 2025-11-10 15:28:13 -0500 (Mon, 10 Nov 2025) EllapsedTime: 18.0 seconds RetCode: 0 Status: OK