Package: dagLogo Version: 1.48.0 Command: /Library/Frameworks/R.framework/Resources/bin/R CMD build --keep-empty-dirs --no-resave-data dagLogo StartedAt: 2025-11-10 16:07:08 -0500 (Mon, 10 Nov 2025) EndedAt: 2025-11-10 16:07:55 -0500 (Mon, 10 Nov 2025) EllapsedTime: 47.5 seconds RetCode: 0 Status: OK PackageFile: dagLogo_1.48.0.tar.gz PackageFileSize: 3.112 MiB