Package: dada2 Version: 1.38.0 Command: /home/biocbuild/bbs-3.22-bioc/R/bin/R CMD INSTALL dada2 StartedAt: 2025-11-11 15:56:13 -0500 (Tue, 11 Nov 2025) EndedAt: 2025-11-11 15:57:41 -0500 (Tue, 11 Nov 2025) EllapsedTime: 87.9 seconds RetCode: 0 Status: OK