Package: dada2 Version: 1.36.0 Command: /home/biocbuild/R/R/bin/R CMD INSTALL dada2 StartedAt: 2025-09-29 21:08:55 -0000 (Mon, 29 Sep 2025) EndedAt: 2025-09-29 21:11:04 -0000 (Mon, 29 Sep 2025) EllapsedTime: 129.0 seconds RetCode: 0 Status: OK