Package: dada2 Version: 1.36.0 Command: /home/biocbuild/R/R/bin/R CMD build --keep-empty-dirs --no-resave-data dada2 StartedAt: 2025-10-03 00:08:12 -0000 (Fri, 03 Oct 2025) EndedAt: 2025-10-03 00:11:01 -0000 (Fri, 03 Oct 2025) EllapsedTime: 169.2 seconds RetCode: 1 Status: ERROR PackageFile: None PackageFileSize: NA