Package: dada2 Version: 1.36.0 Command: /Library/Frameworks/R.framework/Resources/bin/R CMD INSTALL dada2 StartedAt: 2025-10-13 17:58:32 -0400 (Mon, 13 Oct 2025) EndedAt: 2025-10-13 17:59:56 -0400 (Mon, 13 Oct 2025) EllapsedTime: 84.6 seconds RetCode: 0 Status: OK