Package: dada2 Version: 1.36.0 Command: /Library/Frameworks/R.framework/Resources/bin/R CMD build --keep-empty-dirs --no-resave-data dada2 StartedAt: 2025-10-13 22:31:00 -0400 (Mon, 13 Oct 2025) EndedAt: 2025-10-13 22:32:57 -0400 (Mon, 13 Oct 2025) EllapsedTime: 117.0 seconds RetCode: 0 Status: OK PackageFile: dada2_1.36.0.tar.gz PackageFileSize: 2.77 MiB