Package: daMA Version: 1.82.0 Command: /home/biocbuild/bbs-3.22-bioc/R/bin/R CMD build --keep-empty-dirs --no-resave-data --md5 daMA StartedAt: 2025-10-31 17:20:03 -0400 (Fri, 31 Oct 2025) EndedAt: 2025-10-31 17:20:04 -0400 (Fri, 31 Oct 2025) EllapsedTime: 1.0 seconds RetCode: 0 Status: OK PackageFile: daMA_1.82.0.tar.gz PackageFileSize: 4.027 MiB