Package: dStruct Version: 1.16.0 Command: /home/biocbuild/R/R/bin/R CMD INSTALL dStruct StartedAt: 2025-11-13 21:20:43 -0000 (Thu, 13 Nov 2025) EndedAt: 2025-11-13 21:20:47 -0000 (Thu, 13 Nov 2025) EllapsedTime: 3.3 seconds RetCode: 0 Status: OK