Package: dStruct Version: 1.14.0 Command: /Library/Frameworks/R.framework/Resources/bin/R CMD build --keep-empty-dirs --no-resave-data dStruct StartedAt: 2025-10-13 18:46:05 -0400 (Mon, 13 Oct 2025) EndedAt: 2025-10-13 18:46:49 -0400 (Mon, 13 Oct 2025) EllapsedTime: 43.2 seconds RetCode: 0 Status: OK PackageFile: dStruct_1.14.0.tar.gz PackageFileSize: 557.3 KiB