Package: cytomapper Version: 1.22.0 Command: /home/biocbuild/bbs-3.22-bioc/R/bin/R CMD INSTALL cytomapper StartedAt: 2025-11-11 15:40:04 -0500 (Tue, 11 Nov 2025) EndedAt: 2025-11-11 15:41:00 -0500 (Tue, 11 Nov 2025) EllapsedTime: 55.8 seconds RetCode: 0 Status: OK