Package: cytomapper Version: 1.20.0 Command: /home/biocbuild/bbs-3.21-bioc/R/bin/R CMD INSTALL cytomapper StartedAt: 2025-10-12 15:35:21 -0400 (Sun, 12 Oct 2025) EndedAt: 2025-10-12 15:36:18 -0400 (Sun, 12 Oct 2025) EllapsedTime: 56.9 seconds RetCode: 0 Status: OK