Package: cytomapper Version: 1.22.0 Command: /Library/Frameworks/R.framework/Resources/bin/R CMD INSTALL cytomapper StartedAt: 2025-11-03 15:27:48 -0500 (Mon, 03 Nov 2025) EndedAt: 2025-11-03 15:29:02 -0500 (Mon, 03 Nov 2025) EllapsedTime: 74.9 seconds RetCode: 0 Status: OK