Package: cytomapper Version: 1.20.0 Command: /Library/Frameworks/R.framework/Resources/bin/R CMD build --keep-empty-dirs --no-resave-data cytomapper StartedAt: 2025-04-21 16:04:25 -0400 (Mon, 21 Apr 2025) EndedAt: 2025-04-21 16:05:13 -0400 (Mon, 21 Apr 2025) EllapsedTime: 47.6 seconds RetCode: 0 Status: OK PackageFile: cytomapper_1.20.0.tar.gz PackageFileSize: 21.49 MiB