Package: cytomapper Version: 1.20.0 Command: /Library/Frameworks/R.framework/Resources/bin/R CMD INSTALL cytomapper StartedAt: 2025-10-09 16:25:22 -0400 (Thu, 09 Oct 2025) EndedAt: 2025-10-09 16:26:29 -0400 (Thu, 09 Oct 2025) EllapsedTime: 67.2 seconds RetCode: 0 Status: OK