Package: cytomapper Version: 1.20.0 Command: /Library/Frameworks/R.framework/Resources/bin/R CMD build --keep-empty-dirs --no-resave-data cytomapper StartedAt: 2025-10-09 22:40:14 -0400 (Thu, 09 Oct 2025) EndedAt: 2025-10-09 22:42:15 -0400 (Thu, 09 Oct 2025) EllapsedTime: 120.4 seconds RetCode: 0 Status: OK PackageFile: cytomapper_1.20.0.tar.gz PackageFileSize: 21.49 MiB