Package: cytomapper Version: 1.20.0 Command: rm -rf cytomapper.buildbin-libdir && mkdir cytomapper.buildbin-libdir && /Users/biocbuild/BBS/utils/build-universal.sh cytomapper_1.20.0.tar.gz /Library/Frameworks/R.framework/Resources/bin/R cytomapper.buildbin-libdir StartedAt: 2025-10-11 19:45:39 -0400 (Sat, 11 Oct 2025) EndedAt: 2025-10-11 19:46:57 -0400 (Sat, 11 Oct 2025) EllapsedTime: 78.1 seconds RetCode: 0 Status: OK PackageFile: cytomapper_1.20.0.tgz PackageFileSize: 5.459 MiB