Package: cytolib Version: 2.22.0 Command: /home/biocbuild/R/R/bin/R CMD build --keep-empty-dirs --no-resave-data cytolib StartedAt: 2025-11-11 00:57:25 -0000 (Tue, 11 Nov 2025) EndedAt: 2025-11-11 01:01:17 -0000 (Tue, 11 Nov 2025) EllapsedTime: 232.1 seconds RetCode: 0 Status: OK PackageFile: cytolib_2.22.0.tar.gz PackageFileSize: 5.851 MiB