Package: cytolib Version: 2.22.0 Command: /home/biocbuild/bbs-3.22-bioc/R/bin/R CMD INSTALL cytolib StartedAt: 2025-11-11 15:11:59 -0500 (Tue, 11 Nov 2025) EndedAt: 2025-11-11 15:14:32 -0500 (Tue, 11 Nov 2025) EllapsedTime: 153.8 seconds RetCode: 0 Status: OK