Package: cytolib Version: 2.20.0 Command: /home/biocbuild/bbs-3.21-bioc/R/bin/R CMD INSTALL cytolib StartedAt: 2025-09-28 15:22:38 -0400 (Sun, 28 Sep 2025) EndedAt: 2025-09-28 15:25:10 -0400 (Sun, 28 Sep 2025) EllapsedTime: 152.2 seconds RetCode: 0 Status: OK