Package: cytofQC Version: 1.10.0 Command: /home/biocbuild/bbs-3.22-bioc/R/bin/R CMD INSTALL cytofQC StartedAt: 2025-11-14 16:10:40 -0500 (Fri, 14 Nov 2025) EndedAt: 2025-11-14 16:10:40 -0500 (Fri, 14 Nov 2025) EllapsedTime: 0.3 seconds RetCode: 1 Status: ERROR