Package: cytofQC Version: 1.10.0 Command: /Library/Frameworks/R.framework/Resources/bin/R CMD build --keep-empty-dirs --no-resave-data cytofQC StartedAt: 2025-11-10 16:06:12 -0500 (Mon, 10 Nov 2025) EndedAt: 2025-11-10 16:06:13 -0500 (Mon, 10 Nov 2025) EllapsedTime: 1.0 seconds RetCode: 1 Status: ERROR PackageFile: None PackageFileSize: NA