Package: cytoMEM Version: 1.14.0 Command: /home/biocbuild/bbs-3.22-bioc/R/bin/R CMD build --keep-empty-dirs --no-resave-data --md5 cytoMEM StartedAt: 2025-10-31 17:18:56 -0400 (Fri, 31 Oct 2025) EndedAt: 2025-10-31 17:19:11 -0400 (Fri, 31 Oct 2025) EllapsedTime: 15.0 seconds RetCode: 0 Status: OK PackageFile: cytoMEM_1.14.0.tar.gz PackageFileSize: 3.063 MiB