Package: cytoKernel Version: 1.16.0 Command: /home/biocbuild/R/R/bin/R CMD build --keep-empty-dirs --no-resave-data cytoKernel StartedAt: 2025-11-14 01:01:42 -0000 (Fri, 14 Nov 2025) EndedAt: 2025-11-14 01:02:44 -0000 (Fri, 14 Nov 2025) EllapsedTime: 62.0 seconds RetCode: 0 Status: OK PackageFile: cytoKernel_1.16.0.tar.gz PackageFileSize: 731.6 KiB