Package: cytoKernel Version: 1.16.0 Command: /home/biocbuild/bbs-3.22-bioc/R/bin/R CMD INSTALL cytoKernel StartedAt: 2025-11-11 15:21:38 -0500 (Tue, 11 Nov 2025) EndedAt: 2025-11-11 15:22:09 -0500 (Tue, 11 Nov 2025) EllapsedTime: 30.2 seconds RetCode: 0 Status: OK