Package: cytoKernel Version: 1.16.0 Command: /home/biocbuild/bbs-3.22-bioc/R/bin/R CMD check --install=check:cytoKernel.install-out.txt --library=/home/biocbuild/bbs-3.22-bioc/R/site-library --timings cytoKernel_1.16.0.tar.gz StartedAt: 2025-11-11 22:46:17 -0500 (Tue, 11 Nov 2025) EndedAt: 2025-11-11 22:49:56 -0500 (Tue, 11 Nov 2025) EllapsedTime: 219.2 seconds RetCode: 0 Status: OK CheckDir: cytoKernel.Rcheck Warnings: 0