Package: cytoKernel Version: 1.16.0 Command: /home/biocbuild/bbs-3.22-bioc/R/bin/R CMD build --keep-empty-dirs --no-resave-data --md5 cytoKernel StartedAt: 2025-11-11 17:12:46 -0500 (Tue, 11 Nov 2025) EndedAt: 2025-11-11 17:13:32 -0500 (Tue, 11 Nov 2025) EllapsedTime: 45.0 seconds RetCode: 0 Status: OK PackageFile: cytoKernel_1.16.0.tar.gz PackageFileSize: 711.9 KiB