Package: cytoKernel Version: 1.14.0 Command: /Library/Frameworks/R.framework/Resources/bin/R CMD INSTALL cytoKernel StartedAt: 2025-10-13 15:31:52 -0400 (Mon, 13 Oct 2025) EndedAt: 2025-10-13 15:32:58 -0400 (Mon, 13 Oct 2025) EllapsedTime: 65.5 seconds RetCode: 0 Status: OK