Package: cypress Version: 1.4.0 Command: /home/biocbuild/bbs-3.21-bioc/R/bin/R CMD INSTALL cypress StartedAt: 2025-10-15 15:59:59 -0400 (Wed, 15 Oct 2025) EndedAt: 2025-10-15 16:00:28 -0400 (Wed, 15 Oct 2025) EllapsedTime: 29.0 seconds RetCode: 0 Status: OK