Package: cypress Version: 1.4.0 Command: /home/biocbuild/bbs-3.21-bioc/R/bin/R CMD build --keep-empty-dirs --no-resave-data cypress StartedAt: 2025-10-15 17:01:08 -0400 (Wed, 15 Oct 2025) EndedAt: 2025-10-15 17:06:16 -0400 (Wed, 15 Oct 2025) EllapsedTime: 308.3 seconds RetCode: 0 Status: OK PackageFile: cypress_1.4.0.tar.gz PackageFileSize: 2.616 MiB