Package: cypress Version: 1.6.0 Command: /Library/Frameworks/R.framework/Resources/bin/R CMD INSTALL cypress StartedAt: 2025-10-30 15:49:26 -0400 (Thu, 30 Oct 2025) EndedAt: 2025-10-30 15:50:06 -0400 (Thu, 30 Oct 2025) EllapsedTime: 39.6 seconds RetCode: 0 Status: OK