Package: cypress Version: 1.6.0 Command: /Library/Frameworks/R.framework/Resources/bin/R CMD build --keep-empty-dirs --no-resave-data cypress StartedAt: 2025-10-30 16:34:07 -0400 (Thu, 30 Oct 2025) EndedAt: 2025-10-30 16:38:32 -0400 (Thu, 30 Oct 2025) EllapsedTime: 265.3 seconds RetCode: 0 Status: OK PackageFile: cypress_1.6.0.tar.gz PackageFileSize: 2.719 MiB