Package: cypress Version: 1.4.0 Command: rm -rf cypress.buildbin-libdir && mkdir cypress.buildbin-libdir && /Users/biocbuild/BBS/utils/build-universal.sh cypress_1.4.0.tar.gz /Library/Frameworks/R.framework/Resources/bin/R cypress.buildbin-libdir StartedAt: 2025-04-21 22:31:48 -0400 (Mon, 21 Apr 2025) EndedAt: 2025-04-21 22:32:01 -0400 (Mon, 21 Apr 2025) EllapsedTime: 13.3 seconds RetCode: 0 Status: OK PackageFile: cypress_1.4.0.tgz PackageFileSize: 2.503 MiB