Package: cypress Version: 1.4.0 Command: /Library/Frameworks/R.framework/Resources/bin/R CMD build --keep-empty-dirs --no-resave-data cypress StartedAt: 2025-10-13 22:24:43 -0400 (Mon, 13 Oct 2025) EndedAt: 2025-10-13 22:30:05 -0400 (Mon, 13 Oct 2025) EllapsedTime: 321.8 seconds RetCode: 0 Status: OK PackageFile: cypress_1.4.0.tar.gz PackageFileSize: 2.719 MiB