Package: cypress Version: 1.4.0 Command: rm -rf cypress.buildbin-libdir && mkdir cypress.buildbin-libdir && /Users/biocbuild/BBS/utils/build-universal.sh cypress_1.4.0.tar.gz /Library/Frameworks/R.framework/Resources/bin/R cypress.buildbin-libdir StartedAt: 2025-10-15 18:06:00 -0400 (Wed, 15 Oct 2025) EndedAt: 2025-10-15 18:06:39 -0400 (Wed, 15 Oct 2025) EllapsedTime: 38.9 seconds RetCode: 0 Status: OK PackageFile: cypress_1.4.0.tgz PackageFileSize: 2.502 MiB