Package: cypress Version: 1.6.0 Maintainer: Shilin Yu MaintainerEmail: sy597 at georgetown.edu git_url: https://git.bioconductor.org/packages/cypress git_branch: RELEASE_3_22 git_last_commit: 2c7153e git_last_commit_date: 2025-10-29 11:29:05 -0400 (Wed, 29 Oct 2025)