Package: cycle Version: 1.64.0 Command: /Library/Frameworks/R.framework/Resources/bin/R CMD INSTALL cycle StartedAt: 2025-11-03 15:20:25 -0500 (Mon, 03 Nov 2025) EndedAt: 2025-11-03 15:20:45 -0500 (Mon, 03 Nov 2025) EllapsedTime: 19.8 seconds RetCode: 0 Status: OK