Package: cycle Version: 1.64.0 Command: /Library/Frameworks/R.framework/Resources/bin/R CMD build --keep-empty-dirs --no-resave-data cycle StartedAt: 2025-11-03 16:39:43 -0500 (Mon, 03 Nov 2025) EndedAt: 2025-11-03 16:40:23 -0500 (Mon, 03 Nov 2025) EllapsedTime: 40.1 seconds RetCode: 0 Status: OK PackageFile: cycle_1.64.0.tar.gz PackageFileSize: 247.7 KiB