Package: cycle Version: 1.64.0 Command: rm -rf cycle.buildbin-libdir && mkdir cycle.buildbin-libdir && /Users/biocbuild/BBS/utils/build-universal.sh cycle_1.64.0.tar.gz /Library/Frameworks/R.framework/Resources/bin/R cycle.buildbin-libdir StartedAt: 2025-11-04 01:35:28 -0500 (Tue, 04 Nov 2025) EndedAt: 2025-11-04 01:35:37 -0500 (Tue, 04 Nov 2025) EllapsedTime: 9.2 seconds RetCode: 0 Status: OK PackageFile: cycle_1.64.0.tgz PackageFileSize: 267.3 KiB