Package: cycle Version: 1.62.0 Command: /home/biocbuild/R/R/bin/R CMD INSTALL cycle StartedAt: 2025-10-13 20:25:35 -0000 (Mon, 13 Oct 2025) EndedAt: 2025-10-13 20:25:39 -0000 (Mon, 13 Oct 2025) EllapsedTime: 4.4 seconds RetCode: 0 Status: OK