Package: cycle Version: 1.62.0 Command: /home/biocbuild/R/R/bin/R CMD build --keep-empty-dirs --no-resave-data cycle StartedAt: 2025-10-14 00:00:50 -0000 (Tue, 14 Oct 2025) EndedAt: 2025-10-14 00:01:23 -0000 (Tue, 14 Oct 2025) EllapsedTime: 33.0 seconds RetCode: 0 Status: OK PackageFile: cycle_1.62.0.tar.gz PackageFileSize: 241.2 KiB