Package: cycle Version: 1.62.0 Command: rm -rf cycle.buildbin-libdir && mkdir cycle.buildbin-libdir && /Users/biocbuild/BBS/utils/build-universal.sh cycle_1.62.0.tar.gz /Library/Frameworks/R.framework/Resources/bin/R cycle.buildbin-libdir StartedAt: 2025-04-21 22:31:46 -0400 (Mon, 21 Apr 2025) EndedAt: 2025-04-21 22:31:49 -0400 (Mon, 21 Apr 2025) EllapsedTime: 3.1 seconds RetCode: 0 Status: OK PackageFile: cycle_1.62.0.tgz PackageFileSize: 267.6 KiB